BEGIN:VCALENDAR
VERSION:2.0
PRODID:-//Dorothy Barley Junior Academy - ECPv5.10.1//NONSGML v1.0//EN
CALSCALE:GREGORIAN
METHOD:PUBLISH
X-WR-CALNAME:Dorothy Barley Junior Academy
X-ORIGINAL-URL:https://dorothybarleyjunioracademy.co.uk
X-WR-CALDESC:Events for Dorothy Barley Junior Academy
BEGIN:VTIMEZONE
TZID:Europe/London
BEGIN:DAYLIGHT
TZOFFSETFROM:+0000
TZOFFSETTO:+0100
TZNAME:BST
DTSTART:20240331T010000
END:DAYLIGHT
BEGIN:STANDARD
TZOFFSETFROM:+0100
TZOFFSETTO:+0000
TZNAME:GMT
DTSTART:20241027T010000
END:STANDARD
END:VTIMEZONE
BEGIN:VEVENT
DTSTART;VALUE=DATE:20240517
DTEND;VALUE=DATE:20240518
DTSTAMP:20260420T205932
CREATED:20230717T083921Z
LAST-MODIFIED:20230717T083921Z
UID:6445-1715904000-1715990399@dorothybarleyjunioracademy.co.uk
SUMMARY:Year 6 SATs reward trip to Mayesbrook Park
DESCRIPTION:
URL:https://dorothybarleyjunioracademy.co.uk/event/year-6-sats-reward-trip-to-mayesbrook-park/
END:VEVENT
END:VCALENDAR