BEGIN:VCALENDAR
VERSION:2.0
PRODID:-//Dorothy Barley Junior Academy - ECPv5.10.1//NONSGML v1.0//EN
CALSCALE:GREGORIAN
METHOD:PUBLISH
X-WR-CALNAME:Dorothy Barley Junior Academy
X-ORIGINAL-URL:https://dorothybarleyjunioracademy.co.uk
X-WR-CALDESC:Events for Dorothy Barley Junior Academy
BEGIN:VTIMEZONE
TZID:Europe/London
BEGIN:DAYLIGHT
TZOFFSETFROM:+0000
TZOFFSETTO:+0100
TZNAME:BST
DTSTART:20250330T010000
END:DAYLIGHT
BEGIN:STANDARD
TZOFFSETFROM:+0100
TZOFFSETTO:+0000
TZNAME:GMT
DTSTART:20251026T010000
END:STANDARD
END:VTIMEZONE
BEGIN:VEVENT
DTSTART;VALUE=DATE:20251015
DTEND;VALUE=DATE:20251016
DTSTAMP:20260423T145903
CREATED:20240715T122524Z
LAST-MODIFIED:20251013T144627Z
UID:6866-1760486400-1760572799@dorothybarleyjunioracademy.co.uk
SUMMARY:Parents Evening 3:20pm-7:50pm
DESCRIPTION:
URL:https://dorothybarleyjunioracademy.co.uk/event/parents-evening-320pm-750pm/
END:VEVENT
END:VCALENDAR