BEGIN:VCALENDAR
VERSION:2.0
PRODID:-//Dorothy Barley Junior Academy - ECPv5.10.1//NONSGML v1.0//EN
CALSCALE:GREGORIAN
METHOD:PUBLISH
X-WR-CALNAME:Dorothy Barley Junior Academy
X-ORIGINAL-URL:https://dorothybarleyjunioracademy.co.uk
X-WR-CALDESC:Events for Dorothy Barley Junior Academy
BEGIN:VTIMEZONE
TZID:Europe/London
BEGIN:DAYLIGHT
TZOFFSETFROM:+0000
TZOFFSETTO:+0100
TZNAME:BST
DTSTART:20200329T010000
END:DAYLIGHT
BEGIN:STANDARD
TZOFFSETFROM:+0100
TZOFFSETTO:+0000
TZNAME:GMT
DTSTART:20201025T010000
END:STANDARD
END:VTIMEZONE
BEGIN:VEVENT
DTSTART;VALUE=DATE:20200403
DTEND;VALUE=DATE:20200404
DTSTAMP:20260424T203557
CREATED:20191129T134318Z
LAST-MODIFIED:20191129T134318Z
UID:2441-1585872000-1585958399@dorothybarleyjunioracademy.co.uk
SUMMARY:Last Day of Spring Term - 1:30pm Finish
DESCRIPTION:
URL:https://dorothybarleyjunioracademy.co.uk/event/last-day-of-spring-term-130pm-finish/
END:VEVENT
END:VCALENDAR