BEGIN:VCALENDAR
VERSION:2.0
PRODID:-//Dorothy Barley Junior Academy - ECPv5.10.1//NONSGML v1.0//EN
CALSCALE:GREGORIAN
METHOD:PUBLISH
X-WR-CALNAME:Dorothy Barley Junior Academy
X-ORIGINAL-URL:https://dorothybarleyjunioracademy.co.uk
X-WR-CALDESC:Events for Dorothy Barley Junior Academy
BEGIN:VTIMEZONE
TZID:Europe/London
BEGIN:DAYLIGHT
TZOFFSETFROM:+0000
TZOFFSETTO:+0100
TZNAME:BST
DTSTART:20250330T010000
END:DAYLIGHT
BEGIN:STANDARD
TZOFFSETFROM:+0100
TZOFFSETTO:+0000
TZNAME:GMT
DTSTART:20251026T010000
END:STANDARD
END:VTIMEZONE
BEGIN:VEVENT
DTSTART;TZID=Europe/London:20251126T103000
DTEND;TZID=Europe/London:20251126T230000
DTSTAMP:20260424T163903
CREATED:20251013T144856Z
LAST-MODIFIED:20251013T144856Z
UID:7422-1764153000-1764198000@dorothybarleyjunioracademy.co.uk
SUMMARY:Hawthorn class assembly @ 10:25am
DESCRIPTION:
URL:https://dorothybarleyjunioracademy.co.uk/event/hawthorn-class-assembly-1025am/
END:VEVENT
END:VCALENDAR