BEGIN:VCALENDAR
VERSION:2.0
PRODID:-//Dorothy Barley Junior Academy - ECPv5.10.1//NONSGML v1.0//EN
CALSCALE:GREGORIAN
METHOD:PUBLISH
X-WR-CALNAME:Dorothy Barley Junior Academy
X-ORIGINAL-URL:https://dorothybarleyjunioracademy.co.uk
X-WR-CALDESC:Events for Dorothy Barley Junior Academy
BEGIN:VTIMEZONE
TZID:Europe/London
BEGIN:DAYLIGHT
TZOFFSETFROM:+0000
TZOFFSETTO:+0100
TZNAME:BST
DTSTART:20250330T010000
END:DAYLIGHT
BEGIN:STANDARD
TZOFFSETFROM:+0100
TZOFFSETTO:+0000
TZNAME:GMT
DTSTART:20251026T010000
END:STANDARD
END:VTIMEZONE
BEGIN:VEVENT
DTSTART;VALUE=DATE:20251204
DTEND;VALUE=DATE:20251205
DTSTAMP:20260424T204313
CREATED:20251013T145454Z
LAST-MODIFIED:20251013T145454Z
UID:7442-1764806400-1764892799@dorothybarleyjunioracademy.co.uk
SUMMARY:Aspen Westminster Cathedral Trip
DESCRIPTION:
URL:https://dorothybarleyjunioracademy.co.uk/event/aspen-westminster-cathedral-trip/
END:VEVENT
END:VCALENDAR